BEGIN:VCALENDAR
VERSION:2.0
PRODID:-//tradingmart.co - ECPv6.15.20//NONSGML v1.0//EN
CALSCALE:GREGORIAN
METHOD:PUBLISH
X-WR-CALNAME:tradingmart.co
X-ORIGINAL-URL:https://tradingmart.co
X-WR-CALDESC:Events for tradingmart.co
REFRESH-INTERVAL;VALUE=DURATION:PT1H
X-Robots-Tag:noindex
X-PUBLISHED-TTL:PT1H
BEGIN:VTIMEZONE
TZID:Asia/Kuala_Lumpur
BEGIN:STANDARD
TZOFFSETFROM:+0800
TZOFFSETTO:+0800
TZNAME:+08
DTSTART:20250101T000000
END:STANDARD
END:VTIMEZONE
BEGIN:VEVENT
DTSTART;TZID=Asia/Kuala_Lumpur:20260420T230000
DTEND;TZID=Asia/Kuala_Lumpur:20260420T230000
DTSTAMP:20260422T204945
CREATED:20250213T034010Z
LAST-MODIFIED:20250213T034010Z
UID:4407-1776726000-1776726000@tradingmart.co
SUMMARY:LTD - Light Sweet Crude Oil Futures May 2026 (Physical)
DESCRIPTION:For physical delivery products\, the Last Trading Date here is one trading day before the official date. If a U.S. holiday falls on this day\, liquidation happens one more trading day earlier.
URL:https://tradingmart.co/calendar/ltd-light-sweet-crude-oil-futures-may-2026-physical/
END:VEVENT
END:VCALENDAR